BEGIN:VCALENDAR
VERSION:2.0
PRODID:-//ILAN STEPHANI - ECPv6.15.20//NONSGML v1.0//EN
CALSCALE:GREGORIAN
METHOD:PUBLISH
X-WR-CALNAME:ILAN STEPHANI
X-ORIGINAL-URL:https://ilanstephani.com
X-WR-CALDESC:Events for ILAN STEPHANI
REFRESH-INTERVAL;VALUE=DURATION:PT1H
X-Robots-Tag:noindex
X-PUBLISHED-TTL:PT1H
BEGIN:VTIMEZONE
TZID:Europe/Berlin
BEGIN:DAYLIGHT
TZOFFSETFROM:+0100
TZOFFSETTO:+0200
TZNAME:CEST
DTSTART:20250330T010000
END:DAYLIGHT
BEGIN:STANDARD
TZOFFSETFROM:+0200
TZOFFSETTO:+0100
TZNAME:CET
DTSTART:20251026T010000
END:STANDARD
BEGIN:DAYLIGHT
TZOFFSETFROM:+0100
TZOFFSETTO:+0200
TZNAME:CEST
DTSTART:20260329T010000
END:DAYLIGHT
BEGIN:STANDARD
TZOFFSETFROM:+0200
TZOFFSETTO:+0100
TZNAME:CET
DTSTART:20261025T010000
END:STANDARD
BEGIN:DAYLIGHT
TZOFFSETFROM:+0100
TZOFFSETTO:+0200
TZNAME:CEST
DTSTART:20270328T010000
END:DAYLIGHT
BEGIN:STANDARD
TZOFFSETFROM:+0200
TZOFFSETTO:+0100
TZNAME:CET
DTSTART:20271031T010000
END:STANDARD
BEGIN:DAYLIGHT
TZOFFSETFROM:+0100
TZOFFSETTO:+0200
TZNAME:CEST
DTSTART:20280326T010000
END:DAYLIGHT
BEGIN:STANDARD
TZOFFSETFROM:+0200
TZOFFSETTO:+0100
TZNAME:CET
DTSTART:20281029T010000
END:STANDARD
END:VTIMEZONE
BEGIN:VEVENT
DTSTART;VALUE=DATE:20261007
DTEND;VALUE=DATE:20261012
DTSTAMP:20260422T122424
CREATED:20260410T094214Z
LAST-MODIFIED:20260412T171025Z
UID:18688-1791331200-1791763199@ilanstephani.com
SUMMARY:Vorankündigung: YES BABE - Live Retreat
DESCRIPTION:YES BABE \nLive Retreat – Vorankündigung\n– Für Paare und Ex-Paare!! –\n\nMehr Infos kommen in Kürze. \nIhr könnt euch schon gemeinsam anmelden. \n\n\nLocation:\nIn einem wunderschönen Haus am See in Chorin\, ca. 40 Minuten von Berlin entfernt \nAn-und Abreise:\nAnreise: Mittwoch ab 17 Uhr (Abendessen zwischen 18:30 und 19:30 Uhr. Bitte sei PÜNKTLICH um 20 Uhr zum Beginn da.)\nAbreise: Sonntag um 13 Uhr (nach Frühstück\, Morgen-Session und Mittagessen um 12h) \nZeiten: Do\, Fr\, Sa 11-13 Uhr und 15.30-18.30 Uhr \nKosten\nEARLY BIRD bis 7. September 2026\n600 €  \nREGULÄR ab 8. September 2026\n640 € \nKosten für Hotel & Verpflegung\nDZ: ca. 460 € pro Person \nAlle Preise inkl. Verpflegung in Bio-Qualität (vegetarisch / vegan) \nDie Kosten für Hotel und Verpflegung sind separat vor Ort zu zahlen. \n\n  \n\n 
URL:https://ilanstephani.com/event/yesbabe/
LOCATION:Chorin\, Germany
CATEGORIES:♀♂,Deutsch,Events,Live Retreat
ATTACH;FMTTYPE=image/jpeg:https://ilanstephani.com/wp-content/uploads/2026/04/NL-Header.jpg
END:VEVENT
BEGIN:VEVENT
DTSTART;VALUE=DATE:20261227
DTEND;VALUE=DATE:20270104
DTSTAMP:20260422T122424
CREATED:20260329T075413Z
LAST-MODIFIED:20260414T124047Z
UID:18634-1798329600-1799020799@ilanstephani.com
SUMMARY:Vorankündigung: Ekstase - Silvester Celebration
DESCRIPTION:Ekstase \nSilvester Celebration (live) – Vorankündigung\n– Für alle Geschlechter –\n\nMehr Infos dazu in Kürze.\nDu weißt schon\, du bist dabei? Dann kannst Du Dich hier auch schon anmelden. \n\n\nLocation:\nIn einem wunderschönen Haus am See in Chorin\, ca. 40 Minuten von Berlin entfernt \nAn-und Abreise:\nAnreise: Sonntag: 27. Dezember 2026\nAbreise: Sonntag: 3. Januar 2027 \nKosten\nEARLY BIRD bis 27. AUGUST 2026\n920 € \nREGULÄR ab 28. AUGUST 2026\n980 € \nKosten für Hotel & Verpflegung\nEinzelzimmer (EZ):\nUnterkunft: 665 €\nVerpflegung: 420 €\nGesamt: 1.085 € \nDoppel-/Dreibett-/Mehrbettzimmer:\nUnterkunft: 385 €\nVerpflegung: 420 €\nGesamt: 805 € \nVerpflegung in Bio-Qualität (vegetarisch / vegan) \nDie Kosten für Hotel und Verpflegung sind separat vor Ort zu zahlen. \n\n  \n\n 
URL:https://ilanstephani.com/event/ekstase-silvester/
LOCATION:Chorin\, Germany
CATEGORIES:♀♂,Deutsch,Events,Live Retreat
ATTACH;FMTTYPE=image/jpeg:https://ilanstephani.com/wp-content/uploads/2026/03/Silvester.jpg
END:VEVENT
END:VCALENDAR