BEGIN:VCALENDAR
VERSION:2.0
PRODID:-//ILAN STEPHANI - ECPv6.15.20//NONSGML v1.0//EN
CALSCALE:GREGORIAN
METHOD:PUBLISH
X-WR-CALNAME:ILAN STEPHANI
X-ORIGINAL-URL:https://ilanstephani.com
X-WR-CALDESC:Events for ILAN STEPHANI
REFRESH-INTERVAL;VALUE=DURATION:PT1H
X-Robots-Tag:noindex
X-PUBLISHED-TTL:PT1H
BEGIN:VTIMEZONE
TZID:Europe/Berlin
BEGIN:DAYLIGHT
TZOFFSETFROM:+0100
TZOFFSETTO:+0200
TZNAME:CEST
DTSTART:20230326T010000
END:DAYLIGHT
BEGIN:STANDARD
TZOFFSETFROM:+0200
TZOFFSETTO:+0100
TZNAME:CET
DTSTART:20231029T010000
END:STANDARD
BEGIN:DAYLIGHT
TZOFFSETFROM:+0100
TZOFFSETTO:+0200
TZNAME:CEST
DTSTART:20240331T010000
END:DAYLIGHT
BEGIN:STANDARD
TZOFFSETFROM:+0200
TZOFFSETTO:+0100
TZNAME:CET
DTSTART:20241027T010000
END:STANDARD
BEGIN:DAYLIGHT
TZOFFSETFROM:+0100
TZOFFSETTO:+0200
TZNAME:CEST
DTSTART:20250330T010000
END:DAYLIGHT
BEGIN:STANDARD
TZOFFSETFROM:+0200
TZOFFSETTO:+0100
TZNAME:CET
DTSTART:20251026T010000
END:STANDARD
END:VTIMEZONE
BEGIN:VEVENT
DTSTART;TZID=Europe/Berlin:20240310T180000
DTEND;TZID=Europe/Berlin:20240310T190000
DTSTAMP:20260419T214402
CREATED:20240205T095252Z
LAST-MODIFIED:20240205T095252Z
UID:15059-1710093600-1710097200@ilanstephani.com
SUMMARY:#TigressTalk: Spuren und Heilung der Hexenverfolgung
DESCRIPTION:Spuren und Heilung der Hexenverfolgung \n#KalisKuss Online Salon #TigerTalk #LiveCall für DANCE Tigerinnen\n \nDu kannst in die #KalisKuss #TigressTalk einsteigen\, wenn Du Dich im #KalisKuss Online Salon DANCE anmeldest. Du profitierst zusätzlich von weiteren monatlichen Live Calls mit Ilan\, hast Zugang zum Live Call Archiv und reichhaltigen Material an speziellen Übungssequenzen und Inspirationen zu allen Themen aus Ilan’s Körperforschung und vieles mehr. \n\n 
URL:https://ilanstephani.com/event/tigresstalk-feb2024/
CATEGORIES:♀,Deutsch,KalisKuss DANCE,KalisKuss Online Salon,Live-Call DE
ATTACH;FMTTYPE=image/jpeg:https://ilanstephani.com/wp-content/uploads/2022/09/KK-TigressTalk-2.0.jpg
END:VEVENT
END:VCALENDAR