BEGIN:VCALENDAR
VERSION:2.0
PRODID:-//ILAN STEPHANI - ECPv6.15.20//NONSGML v1.0//EN
CALSCALE:GREGORIAN
METHOD:PUBLISH
X-WR-CALNAME:ILAN STEPHANI
X-ORIGINAL-URL:https://ilanstephani.com
X-WR-CALDESC:Events for ILAN STEPHANI
REFRESH-INTERVAL;VALUE=DURATION:PT1H
X-Robots-Tag:noindex
X-PUBLISHED-TTL:PT1H
BEGIN:VTIMEZONE
TZID:Europe/Berlin
BEGIN:DAYLIGHT
TZOFFSETFROM:+0100
TZOFFSETTO:+0200
TZNAME:CEST
DTSTART:20220327T010000
END:DAYLIGHT
BEGIN:STANDARD
TZOFFSETFROM:+0200
TZOFFSETTO:+0100
TZNAME:CET
DTSTART:20221030T010000
END:STANDARD
BEGIN:DAYLIGHT
TZOFFSETFROM:+0100
TZOFFSETTO:+0200
TZNAME:CEST
DTSTART:20230326T010000
END:DAYLIGHT
BEGIN:STANDARD
TZOFFSETFROM:+0200
TZOFFSETTO:+0100
TZNAME:CET
DTSTART:20231029T010000
END:STANDARD
BEGIN:DAYLIGHT
TZOFFSETFROM:+0100
TZOFFSETTO:+0200
TZNAME:CEST
DTSTART:20240331T010000
END:DAYLIGHT
BEGIN:STANDARD
TZOFFSETFROM:+0200
TZOFFSETTO:+0100
TZNAME:CET
DTSTART:20241027T010000
END:STANDARD
END:VTIMEZONE
BEGIN:VEVENT
DTSTART;TZID=Europe/Berlin:20230115T180000
DTEND;TZID=Europe/Berlin:20230115T190000
DTSTAMP:20260420T105301
CREATED:20221209T123025Z
LAST-MODIFIED:20221209T123025Z
UID:13147-1673805600-1673809200@ilanstephani.com
SUMMARY:#KalisKuss Online Salon: Einsamkeit
DESCRIPTION:Einsamkeit – was tun\, wenn ich mich so allein fühle?\n#KalisKuss Online Salon – #LiveCall\n  \nDu kannst in dieses Thema (und viele andere) einsteigen\, wenn Du Dich im Online Salon anmeldest. \nAchtung: Der Salon öffnet nur zu bestimmten Zeiten für neue Forscherinnen!\nWenn Du im Newsletter hier angemeldet bist\, verpasst Du die Öffnung nicht. \nAlle bisherigen Live Calls findest Du dort im Archiv\, falls Du einen verpasst hast. Und ein Reichtum von Inhalten\, Übungen\, Journeys und Austauschmöglichkeiten. \n\n 
URL:https://ilanstephani.com/event/kk-os-main-jan23/
LOCATION:#KalisKuss ONLINE SALON
CATEGORIES:♀♂,Deutsch,KalisKuss Online Salon,Live-Call DE
ATTACH;FMTTYPE=image/jpeg:https://ilanstephani.com/wp-content/uploads/2022/08/KK-2.0-Hauptbild.jpg
END:VEVENT
END:VCALENDAR